BEGIN:VCALENDAR
VERSION:2.0
PRODID:-//Beauty 360 Consulting - ECPv6.15.20//NONSGML v1.0//EN
CALSCALE:GREGORIAN
METHOD:PUBLISH
X-ORIGINAL-URL:https://beauty360consulting.com
X-WR-CALDESC:Events for Beauty 360 Consulting
REFRESH-INTERVAL;VALUE=DURATION:PT1H
X-Robots-Tag:noindex
X-PUBLISHED-TTL:PT1H
BEGIN:VTIMEZONE
TZID:America/New_York
BEGIN:DAYLIGHT
TZOFFSETFROM:-0500
TZOFFSETTO:-0400
TZNAME:EDT
DTSTART:20240310T070000
END:DAYLIGHT
BEGIN:STANDARD
TZOFFSETFROM:-0400
TZOFFSETTO:-0500
TZNAME:EST
DTSTART:20241103T060000
END:STANDARD
BEGIN:DAYLIGHT
TZOFFSETFROM:-0500
TZOFFSETTO:-0400
TZNAME:EDT
DTSTART:20250309T070000
END:DAYLIGHT
BEGIN:STANDARD
TZOFFSETFROM:-0400
TZOFFSETTO:-0500
TZNAME:EST
DTSTART:20251102T060000
END:STANDARD
BEGIN:DAYLIGHT
TZOFFSETFROM:-0500
TZOFFSETTO:-0400
TZNAME:EDT
DTSTART:20260308T070000
END:DAYLIGHT
BEGIN:STANDARD
TZOFFSETFROM:-0400
TZOFFSETTO:-0500
TZNAME:EST
DTSTART:20261101T060000
END:STANDARD
END:VTIMEZONE
BEGIN:VEVENT
DTSTART;TZID=America/New_York:20251102T100000
DTEND;TZID=America/New_York:20251103T170000
DTSTAMP:20260424T082322
CREATED:20250424T020300Z
LAST-MODIFIED:20251011T142950Z
UID:10000050-1762077600-1762189200@beauty360consulting.com
SUMMARY:Salon Fuel: Profit\, Leadership + Growth
DESCRIPTION:Business Mastery for Salon Owners\nFuel your business with the tools and strategies designed for salon owners\, by salon owners.  This class is all about taking control of your numbers\, leading your team with confidence\, and creating a game plan for unstoppable growth. Whether you’re looking to boost profits\, inspire your staff\, or craft promotions that actually work\, we’ve got you covered—because we know what it takes to run a thriving salon! \n\nKnow Your Numbers\, Grow Your Profits!  Get confident with your P&L and make smart money moves.\nLead Like a Boss! Build an unstoppable team\, bridge the generation gap\, and boost performance.\nPromos That Pack a Punch! Create a marketing calendar that shines—online\, in-store\, and beyond.\nSuccess Without the Stress! Level up your leadership\, motivate your team\, and watch your salon thrive.\n\nDates: November 2 & 3Time: 10:00 PM – 5:00 PM/ESTLocation: Kao Salon Academy 22 Little 12th Street PH1 New York\, NYCost: $1250/Per Person. Pay now\, PayLater or Pay with Goldwell Salon Alliance Points. \n\n\n\nClick to Download the Class Flyer
URL:https://beauty360consulting.com/event/salon-fuel-2-profit-leadership-growth/
LOCATION:Kao Salon Academy\, 22 Little 12th Street PH1\, New York\, NY\, United States
CATEGORIES:Seminars
ATTACH;FMTTYPE=image/jpeg:https://beauty360consulting.com/wp-content/uploads/2025/04/hairdresser-styling.jpg
END:VEVENT
END:VCALENDAR